BEGIN:VCALENDAR
VERSION:2.0
PRODID:-//Akcja Katolicka Pracze Odrzańskie - ECPv6.0.8//NONSGML v1.0//EN
CALSCALE:GREGORIAN
METHOD:PUBLISH
X-WR-CALNAME:Akcja Katolicka Pracze Odrzańskie
X-ORIGINAL-URL:https://akpracze.pl
X-WR-CALDESC:Events for Akcja Katolicka Pracze Odrzańskie
REFRESH-INTERVAL;VALUE=DURATION:PT1H
X-Robots-Tag:noindex
X-PUBLISHED-TTL:PT1H
BEGIN:VTIMEZONE
TZID:Europe/Warsaw
BEGIN:DAYLIGHT
TZOFFSETFROM:+0100
TZOFFSETTO:+0200
TZNAME:CEST
DTSTART:20240331T010000
END:DAYLIGHT
BEGIN:STANDARD
TZOFFSETFROM:+0200
TZOFFSETTO:+0100
TZNAME:CET
DTSTART:20241027T010000
END:STANDARD
END:VTIMEZONE
BEGIN:VEVENT
DTSTART;TZID=Europe/Warsaw:20240623T140000
DTEND;TZID=Europe/Warsaw:20240623T173000
DTSTAMP:20260424T042159
CREATED:20240408T195044Z
LAST-MODIFIED:20240408T195044Z
UID:69-1719151200-1719163800@akpracze.pl
SUMMARY:Festyn Parafialny
DESCRIPTION:Zapraszamy jak co roku na festyn parafialny\, więcej informacji już wkrótce.
URL:https://akpracze.pl/event/festyn-parafialny/
LOCATION:Teren przy parafii
END:VEVENT
END:VCALENDAR